BEGIN:VCALENDAR
VERSION:2.0
PRODID:-//The Mystery &amp; Magic Dinner Theater - ECPv6.15.20//NONSGML v1.0//EN
CALSCALE:GREGORIAN
METHOD:PUBLISH
X-WR-CALNAME:The Mystery &amp; Magic Dinner Theater
X-ORIGINAL-URL:https://tucsondinnertheater.com
X-WR-CALDESC:Events for The Mystery &amp; Magic Dinner Theater
REFRESH-INTERVAL;VALUE=DURATION:PT1H
X-Robots-Tag:noindex
X-PUBLISHED-TTL:PT1H
BEGIN:VTIMEZONE
TZID:America/Phoenix
BEGIN:STANDARD
TZOFFSETFROM:-0700
TZOFFSETTO:-0700
TZNAME:MST
DTSTART:20250101T000000
END:STANDARD
END:VTIMEZONE
BEGIN:VEVENT
DTSTART;TZID=America/Phoenix:20260424T183000
DTEND;TZID=America/Phoenix:20260424T220000
DTSTAMP:20260423T033809
CREATED:20260310T032438Z
LAST-MODIFIED:20260310T032928Z
UID:10000372-1777055400-1777068000@tucsondinnertheater.com
SUMMARY:Mystery & Magic Dinner Theater - "Murder at the Magic Show II"
DESCRIPTION:Mystery & Magic Dinner Theater 2526 E Grant Rd\, Tucson\, AZ\, United States “Home of the Iron Chef of Tucson“ \nThis is the only Tucson dinner theater venue where you can enjoy a delicious table-served candle-lit 3-course dinner with a hilarious mystery live magic show. Marrying the best of two of the most popular live theater performing arts genres with an executive Chef prepared dining experience; this dinner show is sure to please.
URL:https://tucsondinnertheater.com/event/mystery-magic-dinner-theater-murder-at-the-magic-show-ii-206/
LOCATION:Magic & Mystery Dinner Theater at Dante’s Fire 2526 E Grant Rd\, 2526 E Grant Rd\, Tucson\, AZ\, 85716\, United States
CATEGORIES:comedy,Dinner Theater,Magic Show,Murder Mystery
ATTACH;FMTTYPE=image/jpeg:https://tucsondinnertheater.com/wp-content/uploads/2023/04/murderatthems-featured-16x9-1.jpg
END:VEVENT
BEGIN:VEVENT
DTSTART;TZID=America/Phoenix:20260425T183000
DTEND;TZID=America/Phoenix:20260425T220000
DTSTAMP:20260423T033809
CREATED:20260310T032656Z
LAST-MODIFIED:20260310T032722Z
UID:10000373-1777141800-1777154400@tucsondinnertheater.com
SUMMARY:Mystery & Magic Dinner Theater - "Murder at the Magic Show II"
DESCRIPTION:Mystery & Magic Dinner Theater 2526 E Grant Rd\, Tucson\, AZ\, United States “Home of the Iron Chef of Tucson“ \nThis is the only Tucson dinner theater venue where you can enjoy a delicious table-served candle-lit 3-course dinner with a hilarious mystery live magic show. Marrying the best of two of thsee most popular live theater performing arts genres with an executive Chef prepared dining experience; this dinner show is sure to please.
URL:https://tucsondinnertheater.com/event/mystery-magic-dinner-theater-murder-at-the-magic-show-ii-207/
LOCATION:Magic & Mystery Dinner Theater at Dante’s Fire 2526 E Grant Rd\, 2526 E Grant Rd\, Tucson\, AZ\, 85716\, United States
CATEGORIES:comedy,Dinner Theater,Magic Show,Murder Mystery
ATTACH;FMTTYPE=image/jpeg:https://tucsondinnertheater.com/wp-content/uploads/2023/04/murderatthems-featured-16x9-1.jpg
END:VEVENT
BEGIN:VEVENT
DTSTART;TZID=America/Phoenix:20260426T173000
DTEND;TZID=America/Phoenix:20260426T210000
DTSTAMP:20260423T033809
CREATED:20260310T033249Z
LAST-MODIFIED:20260418T182239Z
UID:10000374-1777224600-1777237200@tucsondinnertheater.com
SUMMARY:Mystery & Magic Dinner Theater - "Murder at the Magic Show II" - Sunday Early Show
DESCRIPTION:Mystery & Magic Dinner Theater 2526 E Grant Rd\, Tucson\, AZ\, United States “Home of the Iron Chef of Tucson“ \n\nThis is the only Tucson dinner theater venue where you can enjoy a delicious table-served candle-lit 3-course dinner with a hilarious mystery live magic show. Marrying the best of two of the most popular live theater performing arts genres with an executive Chef prepared dining experience; this dinner show is sure to please. 
URL:https://tucsondinnertheater.com/event/mystery-magic-dinner-theater-murder-at-the-magic-show-ii-sunday-early-show-5/
LOCATION:Mystery & Magic Dinner Theater\, 2526 E Grant Rd\, Tucson\, AZ\, 85716\, United States
CATEGORIES:comedy,Dinner Theater,Magic Show,Murder Mystery
ATTACH;FMTTYPE=image/jpeg:https://tucsondinnertheater.com/wp-content/uploads/2026/03/Sold-out-PLEASE-CONSIDER-for-Dantes-copy-4.jpg
ORGANIZER;CN="Mystery & Magic Dinner Theater":MAILTO:magicdone@aol.com
GEO:32.250128320909;-110.93449233498
X-APPLE-STRUCTURED-LOCATION;VALUE=URI;X-ADDRESS=Mystery & Magic Dinner Theater 2526 E Grant Rd Tucson AZ 85716 United States;X-APPLE-RADIUS=500;X-TITLE=2526 E Grant Rd:geo:-110.93449233498,32.250128320909
END:VEVENT
BEGIN:VEVENT
DTSTART;TZID=America/Phoenix:20260501T183000
DTEND;TZID=America/Phoenix:20260501T220000
DTSTAMP:20260423T033809
CREATED:20260323T221456Z
LAST-MODIFIED:20260323T221456Z
UID:10000378-1777660200-1777672800@tucsondinnertheater.com
SUMMARY:Mystery & Magic Dinner Theater - "Murder at the Magic Show II"
DESCRIPTION:Mystery & Magic Dinner Theater 2526 E Grant Rd\, Tucson\, AZ\, United States “Home of the Iron Chef of Tucson“ \nThis is the only Tucson dinner theater venue where you can enjoy a delicious table-served candle-lit 3-course dinner with a hilarious mystery live magic show. Marrying the best of two of thsee most popular live theater performing arts genres with an executive Chef prepared dining experience; this dinner show is sure to please.
URL:https://tucsondinnertheater.com/event/mystery-magic-dinner-theater-murder-at-the-magic-show-ii-208/
LOCATION:Magic & Mystery Dinner Theater at Dante’s Fire 2526 E Grant Rd\, 2526 E Grant Rd\, Tucson\, AZ\, 85716\, United States
CATEGORIES:comedy,Dinner Theater,Magic Show,Murder Mystery
ATTACH;FMTTYPE=image/jpeg:https://tucsondinnertheater.com/wp-content/uploads/2023/04/murderatthems-featured-16x9-1.jpg
END:VEVENT
BEGIN:VEVENT
DTSTART;TZID=America/Phoenix:20260502T183000
DTEND;TZID=America/Phoenix:20260502T220000
DTSTAMP:20260423T033809
CREATED:20260323T221820Z
LAST-MODIFIED:20260323T221820Z
UID:10000379-1777746600-1777759200@tucsondinnertheater.com
SUMMARY:Mystery & Magic Dinner Theater - "Murder at the Magic Show II"
DESCRIPTION:Mystery & Magic Dinner Theater 2526 E Grant Rd\, Tucson\, AZ\, United States “Home of the Iron Chef of Tucson“ \nThis is the only Tucson dinner theater venue where you can enjoy a delicious table-served candle-lit 3-course dinner with a hilarious mystery live magic show. Marrying the best of two of thsee most popular live theater performing arts genres with an executive Chef prepared dining experience; this dinner show is sure to please.
URL:https://tucsondinnertheater.com/event/mystery-magic-dinner-theater-murder-at-the-magic-show-ii-209/
LOCATION:Magic & Mystery Dinner Theater at Dante’s Fire 2526 E Grant Rd\, 2526 E Grant Rd\, Tucson\, AZ\, 85716\, United States
CATEGORIES:comedy,Dinner Theater,Magic Show,Murder Mystery
ATTACH;FMTTYPE=image/jpeg:https://tucsondinnertheater.com/wp-content/uploads/2023/04/murderatthems-featured-16x9-1.jpg
END:VEVENT
BEGIN:VEVENT
DTSTART;TZID=America/Phoenix:20260503T173000
DTEND;TZID=America/Phoenix:20260503T210000
DTSTAMP:20260423T033809
CREATED:20260323T220703Z
LAST-MODIFIED:20260323T220703Z
UID:10000376-1777829400-1777842000@tucsondinnertheater.com
SUMMARY:Mystery & Magic Dinner Theater - "Murder at the Magic Show II" - Sunday Early Show
DESCRIPTION:Mystery & Magic Dinner Theater 2526 E Grant Rd\, Tucson\, AZ\, United States “Home of the Iron Chef of Tucson“ \n\nThis is the only Tucson dinner theater venue where you can enjoy a delicious table-served candle-lit 3-course dinner with a hilarious mystery live magic show. Marrying the best of two of the most popular live theater performing arts genres with an executive Chef prepared dining experience; this dinner show is sure to please. 
URL:https://tucsondinnertheater.com/event/mystery-magic-dinner-theater-murder-at-the-magic-show-ii-sunday-early-show-6/
LOCATION:Mystery & Magic Dinner Theater\, 2526 E Grant Rd\, Tucson\, AZ\, 85716\, United States
CATEGORIES:comedy,Dinner Theater,Magic Show,Murder Mystery
ATTACH;FMTTYPE=image/jpeg:https://tucsondinnertheater.com/wp-content/uploads/2026/02/dd2ada294a6bc1a08b1c6f1251972bc2.jpg
ORGANIZER;CN="Mystery & Magic Dinner Theater":MAILTO:magicdone@aol.com
GEO:32.250128320909;-110.93449233498
X-APPLE-STRUCTURED-LOCATION;VALUE=URI;X-ADDRESS=Mystery & Magic Dinner Theater 2526 E Grant Rd Tucson AZ 85716 United States;X-APPLE-RADIUS=500;X-TITLE=2526 E Grant Rd:geo:-110.93449233498,32.250128320909
END:VEVENT
BEGIN:VEVENT
DTSTART;TZID=America/Phoenix:20260508T183000
DTEND;TZID=America/Phoenix:20260508T220000
DTSTAMP:20260423T033809
CREATED:20260323T222435Z
LAST-MODIFIED:20260323T222435Z
UID:10000380-1778265000-1778277600@tucsondinnertheater.com
SUMMARY:Mystery & Magic Dinner Theater - "Murder at the Magic Show II"
DESCRIPTION:Mystery & Magic Dinner Theater 2526 E Grant Rd\, Tucson\, AZ\, United States “Home of the Iron Chef of Tucson“ \nThis is the only Tucson dinner theater venue where you can enjoy a delicious table-served candle-lit 3-course dinner with a hilarious mystery live magic show. Marrying the best of two of thsee most popular live theater performing arts genres with an executive Chef prepared dining experience; this dinner show is sure to please.
URL:https://tucsondinnertheater.com/event/mystery-magic-dinner-theater-murder-at-the-magic-show-ii-210/
LOCATION:Magic & Mystery Dinner Theater at Dante’s Fire 2526 E Grant Rd\, 2526 E Grant Rd\, Tucson\, AZ\, 85716\, United States
CATEGORIES:comedy,Dinner Theater,Magic Show,Murder Mystery
ATTACH;FMTTYPE=image/jpeg:https://tucsondinnertheater.com/wp-content/uploads/2023/04/murderatthems-featured-16x9-1.jpg
END:VEVENT
BEGIN:VEVENT
DTSTART;TZID=America/Phoenix:20260509T183000
DTEND;TZID=America/Phoenix:20260509T220000
DTSTAMP:20260423T033809
CREATED:20260323T222854Z
LAST-MODIFIED:20260323T222854Z
UID:10000381-1778351400-1778364000@tucsondinnertheater.com
SUMMARY:Mystery & Magic Dinner Theater - "Murder at the Magic Show II"
DESCRIPTION:Mystery & Magic Dinner Theater 2526 E Grant Rd\, Tucson\, AZ\, United States “Home of the Iron Chef of Tucson“ \nThis is the only Tucson dinner theater venue where you can enjoy a delicious table-served candle-lit 3-course dinner with a hilarious mystery live magic show. Marrying the best of two of thsee most popular live theater performing arts genres with an executive Chef prepared dining experience; this dinner show is sure to please.
URL:https://tucsondinnertheater.com/event/mystery-magic-dinner-theater-murder-at-the-magic-show-ii-211/
LOCATION:Magic & Mystery Dinner Theater at Dante’s Fire 2526 E Grant Rd\, 2526 E Grant Rd\, Tucson\, AZ\, 85716\, United States
CATEGORIES:comedy,Dinner Theater,Magic Show,Murder Mystery
ATTACH;FMTTYPE=image/jpeg:https://tucsondinnertheater.com/wp-content/uploads/2023/04/murderatthems-featured-16x9-1.jpg
END:VEVENT
BEGIN:VEVENT
DTSTART;TZID=America/Phoenix:20260510T173000
DTEND;TZID=America/Phoenix:20260510T210000
DTSTAMP:20260423T033809
CREATED:20260323T221125Z
LAST-MODIFIED:20260323T221125Z
UID:10000377-1778434200-1778446800@tucsondinnertheater.com
SUMMARY:Mystery & Magic Dinner Theater - "Murder at the Magic Show II" - Sunday Early Show
DESCRIPTION:Mystery & Magic Dinner Theater 2526 E Grant Rd\, Tucson\, AZ\, United States “Home of the Iron Chef of Tucson“ \n\nThis is the only Tucson dinner theater venue where you can enjoy a delicious table-served candle-lit 3-course dinner with a hilarious mystery live magic show. Marrying the best of two of the most popular live theater performing arts genres with an executive Chef prepared dining experience; this dinner show is sure to please. 
URL:https://tucsondinnertheater.com/event/mystery-magic-dinner-theater-murder-at-the-magic-show-ii-sunday-early-show-7/
LOCATION:Mystery & Magic Dinner Theater\, 2526 E Grant Rd\, Tucson\, AZ\, 85716\, United States
CATEGORIES:comedy,Dinner Theater,Magic Show,Murder Mystery
ATTACH;FMTTYPE=image/jpeg:https://tucsondinnertheater.com/wp-content/uploads/2026/02/dd2ada294a6bc1a08b1c6f1251972bc2.jpg
ORGANIZER;CN="Mystery & Magic Dinner Theater":MAILTO:magicdone@aol.com
GEO:32.250128320909;-110.93449233498
X-APPLE-STRUCTURED-LOCATION;VALUE=URI;X-ADDRESS=Mystery & Magic Dinner Theater 2526 E Grant Rd Tucson AZ 85716 United States;X-APPLE-RADIUS=500;X-TITLE=2526 E Grant Rd:geo:-110.93449233498,32.250128320909
END:VEVENT
BEGIN:VEVENT
DTSTART;TZID=America/Phoenix:20260515T183000
DTEND;TZID=America/Phoenix:20260515T220000
DTSTAMP:20260423T033809
CREATED:20260413T194446Z
LAST-MODIFIED:20260413T194446Z
UID:10000382-1778869800-1778882400@tucsondinnertheater.com
SUMMARY:Mystery & Magic Dinner Theater - "Murder at the Magic Show II"
DESCRIPTION:Mystery & Magic Dinner Theater 2526 E Grant Rd\, Tucson\, AZ\, United States “Home of the Iron Chef of Tucson“ \nThis is the only Tucson dinner theater venue where you can enjoy a delicious table-served candle-lit 3-course dinner with a hilarious mystery live magic show. Marrying the best of two of thsee most popular live theater performing arts genres with an executive Chef prepared dining experience; this dinner show is sure to please.
URL:https://tucsondinnertheater.com/event/mystery-magic-dinner-theater-murder-at-the-magic-show-ii-212/
LOCATION:Magic & Mystery Dinner Theater at Dante’s Fire 2526 E Grant Rd\, 2526 E Grant Rd\, Tucson\, AZ\, 85716\, United States
CATEGORIES:comedy,Dinner Theater,Magic Show,Murder Mystery
ATTACH;FMTTYPE=image/jpeg:https://tucsondinnertheater.com/wp-content/uploads/2023/04/murderatthems-featured-16x9-1.jpg
END:VEVENT
BEGIN:VEVENT
DTSTART;TZID=America/Phoenix:20260516T183000
DTEND;TZID=America/Phoenix:20260516T220000
DTSTAMP:20260423T033809
CREATED:20260413T195724Z
LAST-MODIFIED:20260413T195724Z
UID:10000383-1778956200-1778968800@tucsondinnertheater.com
SUMMARY:Mystery & Magic Dinner Theater - "Murder at the Magic Show II"
DESCRIPTION:Mystery & Magic Dinner Theater 2526 E Grant Rd\, Tucson\, AZ\, United States “Home of the Iron Chef of Tucson“ \nThis is the only Tucson dinner theater venue where you can enjoy a delicious table-served candle-lit 3-course dinner with a hilarious mystery live magic show. Marrying the best of two of thsee most popular live theater performing arts genres with an executive Chef prepared dining experience; this dinner show is sure to please.
URL:https://tucsondinnertheater.com/event/mystery-magic-dinner-theater-murder-at-the-magic-show-ii-213/
LOCATION:Magic & Mystery Dinner Theater at Dante’s Fire 2526 E Grant Rd\, 2526 E Grant Rd\, Tucson\, AZ\, 85716\, United States
CATEGORIES:comedy,Dinner Theater,Magic Show,Murder Mystery
ATTACH;FMTTYPE=image/jpeg:https://tucsondinnertheater.com/wp-content/uploads/2026/04/Sold-out-PLEASE-CONSIDER-for-Dantes-copy.jpg
END:VEVENT
BEGIN:VEVENT
DTSTART;TZID=America/Phoenix:20260517T173000
DTEND;TZID=America/Phoenix:20260517T210000
DTSTAMP:20260423T033809
CREATED:20260413T201143Z
LAST-MODIFIED:20260413T201143Z
UID:10000384-1779039000-1779051600@tucsondinnertheater.com
SUMMARY:Mystery & Magic Dinner Theater - "Murder at the Magic Show II" - Sunday Early Show
DESCRIPTION:Mystery & Magic Dinner Theater 2526 E Grant Rd\, Tucson\, AZ\, United States “Home of the Iron Chef of Tucson“ \n\nThis is the only Tucson dinner theater venue where you can enjoy a delicious table-served candle-lit 3-course dinner with a hilarious mystery live magic show. Marrying the best of two of the most popular live theater performing arts genres with an executive Chef prepared dining experience; this dinner show is sure to please. 
URL:https://tucsondinnertheater.com/event/mystery-magic-dinner-theater-murder-at-the-magic-show-ii-sunday-early-show-8/
LOCATION:Mystery & Magic Dinner Theater\, 2526 E Grant Rd\, Tucson\, AZ\, 85716\, United States
CATEGORIES:comedy,Dinner Theater,Magic Show,Murder Mystery
ATTACH;FMTTYPE=image/jpeg:https://tucsondinnertheater.com/wp-content/uploads/2026/02/dd2ada294a6bc1a08b1c6f1251972bc2.jpg
ORGANIZER;CN="Mystery & Magic Dinner Theater":MAILTO:magicdone@aol.com
GEO:32.250128320909;-110.93449233498
X-APPLE-STRUCTURED-LOCATION;VALUE=URI;X-ADDRESS=Mystery & Magic Dinner Theater 2526 E Grant Rd Tucson AZ 85716 United States;X-APPLE-RADIUS=500;X-TITLE=2526 E Grant Rd:geo:-110.93449233498,32.250128320909
END:VEVENT
BEGIN:VEVENT
DTSTART;TZID=America/Phoenix:20260522T183000
DTEND;TZID=America/Phoenix:20260522T220000
DTSTAMP:20260423T033809
CREATED:20260413T203857Z
LAST-MODIFIED:20260413T203857Z
UID:10000387-1779474600-1779487200@tucsondinnertheater.com
SUMMARY:Mystery & Magic Dinner Theater - "Murder at the Magic Show II"
DESCRIPTION:Mystery & Magic Dinner Theater 2526 E Grant Rd\, Tucson\, AZ\, United States “Home of the Iron Chef of Tucson“ \nThis is the only Tucson dinner theater venue where you can enjoy a delicious table-served candle-lit 3-course dinner with a hilarious mystery live magic show. Marrying the best of two of thsee most popular live theater performing arts genres with an executive Chef prepared dining experience; this dinner show is sure to please.
URL:https://tucsondinnertheater.com/event/mystery-magic-dinner-theater-murder-at-the-magic-show-ii-215/
LOCATION:Magic & Mystery Dinner Theater at Dante’s Fire 2526 E Grant Rd\, 2526 E Grant Rd\, Tucson\, AZ\, 85716\, United States
CATEGORIES:comedy,Dinner Theater,Magic Show,Murder Mystery
ATTACH;FMTTYPE=image/jpeg:https://tucsondinnertheater.com/wp-content/uploads/2023/04/murderatthems-featured-16x9-1.jpg
END:VEVENT
BEGIN:VEVENT
DTSTART;TZID=America/Phoenix:20260523T183000
DTEND;TZID=America/Phoenix:20260523T220000
DTSTAMP:20260423T033809
CREATED:20260413T202601Z
LAST-MODIFIED:20260413T203401Z
UID:10000385-1779561000-1779573600@tucsondinnertheater.com
SUMMARY:Mystery & Magic Dinner Theater - "Murder at the Magic Show II"
DESCRIPTION:Mystery & Magic Dinner Theater 2526 E Grant Rd\, Tucson\, AZ\, United States “Home of the Iron Chef of Tucson“ \nThis is the only Tucson dinner theater venue where you can enjoy a delicious table-served candle-lit 3-course dinner with a hilarious mystery live magic show. Marrying the best of two of thsee most popular live theater performing arts genres with an executive Chef prepared dining experience; this dinner show is sure to please.
URL:https://tucsondinnertheater.com/event/mystery-magic-dinner-theater-murder-at-the-magic-show-ii-214/
LOCATION:Magic & Mystery Dinner Theater at Dante’s Fire 2526 E Grant Rd\, 2526 E Grant Rd\, Tucson\, AZ\, 85716\, United States
CATEGORIES:comedy,Dinner Theater,Magic Show,Murder Mystery
ATTACH;FMTTYPE=image/jpeg:https://tucsondinnertheater.com/wp-content/uploads/2023/04/murderatthems-featured-16x9-1.jpg
END:VEVENT
BEGIN:VEVENT
DTSTART;TZID=America/Phoenix:20260524T173000
DTEND;TZID=America/Phoenix:20260524T210000
DTSTAMP:20260423T033809
CREATED:20260413T204510Z
LAST-MODIFIED:20260413T204510Z
UID:10000388-1779643800-1779656400@tucsondinnertheater.com
SUMMARY:Mystery & Magic Dinner Theater - "Murder at the Magic Show II" - Sunday Early Show
DESCRIPTION:Mystery & Magic Dinner Theater 2526 E Grant Rd\, Tucson\, AZ\, United States “Home of the Iron Chef of Tucson“ \n\nThis is the only Tucson dinner theater venue where you can enjoy a delicious table-served candle-lit 3-course dinner with a hilarious mystery live magic show. Marrying the best of two of the most popular live theater performing arts genres with an executive Chef prepared dining experience; this dinner show is sure to please. 
URL:https://tucsondinnertheater.com/event/mystery-magic-dinner-theater-murder-at-the-magic-show-ii-sunday-early-show-9/
LOCATION:Mystery & Magic Dinner Theater\, 2526 E Grant Rd\, Tucson\, AZ\, 85716\, United States
CATEGORIES:comedy,Dinner Theater,Magic Show,Murder Mystery
ATTACH;FMTTYPE=image/jpeg:https://tucsondinnertheater.com/wp-content/uploads/2026/02/dd2ada294a6bc1a08b1c6f1251972bc2.jpg
ORGANIZER;CN="Mystery & Magic Dinner Theater":MAILTO:magicdone@aol.com
GEO:32.250128320909;-110.93449233498
X-APPLE-STRUCTURED-LOCATION;VALUE=URI;X-ADDRESS=Mystery & Magic Dinner Theater 2526 E Grant Rd Tucson AZ 85716 United States;X-APPLE-RADIUS=500;X-TITLE=2526 E Grant Rd:geo:-110.93449233498,32.250128320909
END:VEVENT
END:VCALENDAR